Package: NBAMSeq Version: 1.22.0 Command: /Library/Frameworks/R.framework/Resources/bin/R CMD build --keep-empty-dirs --no-resave-data NBAMSeq StartedAt: 2025-01-30 21:21:16 -0500 (Thu, 30 Jan 2025) EndedAt: 2025-01-30 21:23:40 -0500 (Thu, 30 Jan 2025) EllapsedTime: 143.9 seconds RetCode: 0 Status: OK PackageFile: NBAMSeq_1.22.0.tar.gz PackageFileSize: 342.5 KiB