Package: NBAMSeq Version: 1.24.0 Command: /Library/Frameworks/R.framework/Resources/bin/R CMD INSTALL NBAMSeq StartedAt: 2025-04-21 15:19:25 -0400 (Mon, 21 Apr 2025) EndedAt: 2025-04-21 15:19:37 -0400 (Mon, 21 Apr 2025) EllapsedTime: 12.5 seconds RetCode: 0 Status: OK