Package: MutationalPatterns Version: 3.16.0 Command: /home/biocbuild/R/R/bin/R CMD check --install=check:MutationalPatterns.install-out.txt --library=/home/biocbuild/R/R/site-library --no-vignettes --timings MutationalPatterns_3.16.0.tar.gz StartedAt: 2025-01-31 08:33:53 -0000 (Fri, 31 Jan 2025) EndedAt: 2025-01-31 08:46:32 -0000 (Fri, 31 Jan 2025) EllapsedTime: 759.5 seconds RetCode: 0 Status: OK CheckDir: MutationalPatterns.Rcheck Warnings: 0