Package: MultimodalExperiment Version: 1.6.0 Command: /home/biocbuild/R/R/bin/R CMD check --install=check:MultimodalExperiment.install-out.txt --library=/home/biocbuild/R/R/site-library --no-vignettes --timings MultimodalExperiment_1.6.0.tar.gz StartedAt: 2025-02-11 08:31:43 -0000 (Tue, 11 Feb 2025) EndedAt: 2025-02-11 08:35:06 -0000 (Tue, 11 Feb 2025) EllapsedTime: 203.3 seconds RetCode: 0 Status: OK CheckDir: MultimodalExperiment.Rcheck Warnings: 0