Package: MultimodalExperiment Version: 1.8.0 Command: /home/biocbuild/bbs-3.21-bioc/R/bin/R CMD INSTALL MultimodalExperiment StartedAt: 2025-10-15 15:21:39 -0400 (Wed, 15 Oct 2025) EndedAt: 2025-10-15 15:22:06 -0400 (Wed, 15 Oct 2025) EllapsedTime: 27.5 seconds RetCode: 0 Status: OK