Package: MultimodalExperiment Version: 1.8.0 Command: /home/biocbuild/bbs-3.21-bioc/R/bin/R CMD build --keep-empty-dirs --no-resave-data MultimodalExperiment StartedAt: 2025-10-15 18:46:44 -0400 (Wed, 15 Oct 2025) EndedAt: 2025-10-15 18:47:27 -0400 (Wed, 15 Oct 2025) EllapsedTime: 42.1 seconds RetCode: 0 Status: OK PackageFile: MultimodalExperiment_1.8.0.tar.gz PackageFileSize: 2.532 MiB