Package: MultiRNAflow Version: 1.4.0 Command: /home/biocbuild/R/R/bin/R CMD INSTALL MultiRNAflow StartedAt: 2025-02-03 21:22:56 -0000 (Mon, 03 Feb 2025) EndedAt: 2025-02-03 21:23:48 -0000 (Mon, 03 Feb 2025) EllapsedTime: 52.5 seconds RetCode: 0 Status: OK