Package: MultiRNAflow Version: 1.4.0 Command: /home/biocbuild/R/R/bin/R CMD check --install=check:MultiRNAflow.install-out.txt --library=/home/biocbuild/R/R/site-library --no-vignettes --timings MultiRNAflow_1.4.0.tar.gz StartedAt: 2025-02-11 08:31:44 -0000 (Tue, 11 Feb 2025) EndedAt: 2025-02-11 08:42:32 -0000 (Tue, 11 Feb 2025) EllapsedTime: 648.0 seconds RetCode: 0 Status: WARNINGS CheckDir: MultiRNAflow.Rcheck Warnings: 1