Package: MultiRNAflow Version: 1.4.0 Command: /home/biocbuild/R/R/bin/R CMD build --keep-empty-dirs --no-resave-data MultiRNAflow StartedAt: 2025-02-04 01:18:17 -0000 (Tue, 04 Feb 2025) EndedAt: 2025-02-04 01:24:37 -0000 (Tue, 04 Feb 2025) EllapsedTime: 380.2 seconds RetCode: 0 Status: OK PackageFile: MultiRNAflow_1.4.0.tar.gz PackageFileSize: 3.155 MiB