Package: MultiDataSet Version: 1.34.0 Command: /home/biocbuild/R/R/bin/R CMD check --install=check:MultiDataSet.install-out.txt --library=/home/biocbuild/R/R/site-library --no-vignettes --timings MultiDataSet_1.34.0.tar.gz StartedAt: 2025-02-11 08:30:44 -0000 (Tue, 11 Feb 2025) EndedAt: 2025-02-11 08:34:01 -0000 (Tue, 11 Feb 2025) EllapsedTime: 196.3 seconds RetCode: 0 Status: WARNINGS CheckDir: MultiDataSet.Rcheck Warnings: 1