Package: MultiBaC Version: 1.18.0 Command: rm -rf MultiBaC.buildbin-libdir && mkdir MultiBaC.buildbin-libdir && /Users/biocbuild/BBS/utils/build-universal.sh MultiBaC_1.18.0.tar.gz /Library/Frameworks/R.framework/Resources/bin/R MultiBaC.buildbin-libdir StartedAt: 2025-09-26 15:02:53 -0400 (Fri, 26 Sep 2025) EndedAt: 2025-09-26 15:08:47 -0400 (Fri, 26 Sep 2025) EllapsedTime: 353.5 seconds RetCode: 0 Status: OK PackageFile: MultiBaC_1.18.0.tgz PackageFileSize: 1.804 MiB