Package: Mulcom Version: 1.58.0 Command: rm -rf Mulcom.buildbin-libdir && mkdir Mulcom.buildbin-libdir && /Users/biocbuild/BBS/utils/build-universal.sh Mulcom_1.58.0.tar.gz /Library/Frameworks/R.framework/Resources/bin/R Mulcom.buildbin-libdir StartedAt: 2025-10-04 19:00:50 -0400 (Sat, 04 Oct 2025) EndedAt: 2025-10-04 19:01:02 -0400 (Sat, 04 Oct 2025) EllapsedTime: 12.5 seconds RetCode: 0 Status: OK PackageFile: Mulcom_1.58.0.tgz PackageFileSize: 1.185 MiB