Package: MuData Version: 1.12.0 Command: /Library/Frameworks/R.framework/Resources/bin/R CMD check --install=check:MuData.install-out.txt --library=/Library/Frameworks/R.framework/Resources/library --no-vignettes --timings MuData_1.12.0.tar.gz StartedAt: 2025-05-06 06:36:36 -0400 (Tue, 06 May 2025) EndedAt: 2025-05-06 06:43:01 -0400 (Tue, 06 May 2025) EllapsedTime: 385.6 seconds RetCode: 0 Status: OK CheckDir: MuData.Rcheck Warnings: 0