Package: MuData Version: 1.12.0 Command: /Library/Frameworks/R.framework/Resources/bin/R CMD build --keep-empty-dirs --no-resave-data MuData StartedAt: 2025-05-05 20:46:56 -0400 (Mon, 05 May 2025) EndedAt: 2025-05-05 20:51:22 -0400 (Mon, 05 May 2025) EllapsedTime: 266.7 seconds RetCode: 0 Status: OK PackageFile: MuData_1.12.0.tar.gz PackageFileSize: 2.235 MiB