Package: MuData Version: 1.12.0 Command: /home/biocbuild/R/R/bin/R CMD INSTALL MuData StartedAt: 2025-05-05 20:32:14 -0000 (Mon, 05 May 2025) EndedAt: 2025-05-05 20:32:49 -0000 (Mon, 05 May 2025) EllapsedTime: 35.2 seconds RetCode: 0 Status: OK