Package: MsQuality Version: 1.8.3 Command: chmod a+r MsQuality -R && E:\biocbuild\bbs-3.21-bioc\R\bin\R.exe CMD build --keep-empty-dirs --no-resave-data MsQuality StartedAt: 2025-08-14 20:40:29 -0400 (Thu, 14 Aug 2025) EndedAt: 2025-08-14 20:43:13 -0400 (Thu, 14 Aug 2025) EllapsedTime: 163.1 seconds RetCode: 0 Status: OK PackageFile: MsQuality_1.8.3.tar.gz PackageFileSize: 4.244 MiB