Package: MsExperiment Version: 1.10.1 Command: chmod a+r MsExperiment -R && E:\biocbuild\bbs-3.21-bioc\R\bin\R.exe CMD build --keep-empty-dirs --no-resave-data MsExperiment StartedAt: 2025-08-14 20:38:20 -0400 (Thu, 14 Aug 2025) EndedAt: 2025-08-14 20:40:59 -0400 (Thu, 14 Aug 2025) EllapsedTime: 158.4 seconds RetCode: 0 Status: OK PackageFile: MsExperiment_1.10.1.tar.gz PackageFileSize: 1.882 MiB