Package: MsDataHub Version: 1.6.0 Command: /home/biocbuild/bbs-3.20-bioc/R/bin/R CMD build --keep-empty-dirs --no-resave-data --md5 MsDataHub StartedAt: 2025-01-30 18:13:11 -0500 (Thu, 30 Jan 2025) EndedAt: 2025-01-30 18:16:47 -0500 (Thu, 30 Jan 2025) EllapsedTime: 216.3 seconds RetCode: 0 Status: OK PackageFile: MsDataHub_1.6.0.tar.gz PackageFileSize: 369.5 KiB