Package: MsDataHub Version: 1.8.0 Command: /Library/Frameworks/R.framework/Resources/bin/R CMD check --install=check:MsDataHub.install-out.txt --library=/Library/Frameworks/R.framework/Resources/library --no-vignettes --timings MsDataHub_1.8.0.tar.gz StartedAt: 2025-04-29 10:06:48 -0400 (Tue, 29 Apr 2025) EndedAt: 2025-04-29 10:10:45 -0400 (Tue, 29 Apr 2025) EllapsedTime: 237.1 seconds RetCode: 0 Status: OK CheckDir: MsDataHub.Rcheck Warnings: 0