Package: MsDataHub Version: 1.8.0 Command: /home/biocbuild/R/R/bin/R CMD build --keep-empty-dirs --no-resave-data MsDataHub StartedAt: 2025-04-22 02:36:48 -0000 (Tue, 22 Apr 2025) EndedAt: 2025-04-22 02:42:16 -0000 (Tue, 22 Apr 2025) EllapsedTime: 328.1 seconds RetCode: 0 Status: OK PackageFile: MsDataHub_1.8.0.tar.gz PackageFileSize: 468.8 KiB