Package: MsCoreUtils Version: 1.18.0 Command: /home/biocbuild/R/R/bin/R CMD build --keep-empty-dirs --no-resave-data MsCoreUtils StartedAt: 2025-01-31 01:09:17 -0000 (Fri, 31 Jan 2025) EndedAt: 2025-01-31 01:09:30 -0000 (Fri, 31 Jan 2025) EllapsedTime: 13.0 seconds RetCode: 0 Status: OK PackageFile: MsCoreUtils_1.18.0.tar.gz PackageFileSize: 477 KiB