Package: MsCoreUtils Version: 1.18.0 Command: rm -rf MsCoreUtils.buildbin-libdir && mkdir MsCoreUtils.buildbin-libdir && F:\biocbuild\bbs-3.20-bioc\R\bin\R.exe CMD INSTALL --build --library=MsCoreUtils.buildbin-libdir MsCoreUtils_1.18.0.tar.gz StartedAt: 2025-01-31 09:06:47 -0500 (Fri, 31 Jan 2025) EndedAt: 2025-01-31 09:07:15 -0500 (Fri, 31 Jan 2025) EllapsedTime: 28.4 seconds RetCode: 0 Status: OK PackageFile: MsCoreUtils_1.18.0.zip PackageFileSize: 537.4 KiB