Package: MsCoreUtils Version: 1.18.0 Command: /home/biocbuild/bbs-3.20-bioc/R/bin/R CMD INSTALL MsCoreUtils StartedAt: 2025-02-03 15:15:55 -0500 (Mon, 03 Feb 2025) EndedAt: 2025-02-03 15:16:12 -0500 (Mon, 03 Feb 2025) EllapsedTime: 17.0 seconds RetCode: 0 Status: OK