Package: MsCoreUtils Version: 1.20.0 Command: /home/biocbuild/R/R/bin/R CMD build --keep-empty-dirs --no-resave-data MsCoreUtils StartedAt: 2025-06-13 03:09:22 -0000 (Fri, 13 Jun 2025) EndedAt: 2025-06-13 03:09:37 -0000 (Fri, 13 Jun 2025) EllapsedTime: 15.0 seconds RetCode: 0 Status: OK PackageFile: MsCoreUtils_1.20.0.tar.gz PackageFileSize: 479.2 KiB