Package: MsCoreUtils Version: 1.20.0 Command: /Library/Frameworks/R.framework/Resources/bin/R CMD build --keep-empty-dirs --no-resave-data MsCoreUtils StartedAt: 2025-07-15 04:36:25 -0400 (Tue, 15 Jul 2025) EndedAt: 2025-07-15 04:36:40 -0400 (Tue, 15 Jul 2025) EllapsedTime: 14.9 seconds RetCode: 0 Status: OK PackageFile: MsCoreUtils_1.20.0.tar.gz PackageFileSize: 414.2 KiB