Package: MsBackendSql Version: 1.8.0 Command: rm -rf MsBackendSql.buildbin-libdir && mkdir MsBackendSql.buildbin-libdir && /Users/biocbuild/BBS/utils/build-universal.sh MsBackendSql_1.8.0.tar.gz /Library/Frameworks/R.framework/Resources/bin/R MsBackendSql.buildbin-libdir StartedAt: 2025-05-16 13:08:36 -0400 (Fri, 16 May 2025) EndedAt: 2025-05-16 13:09:13 -0400 (Fri, 16 May 2025) EllapsedTime: 36.7 seconds RetCode: 0 Status: OK PackageFile: MsBackendSql_1.8.0.tgz PackageFileSize: 626 KiB