Package: MsBackendMsp Version: 1.12.0 Command: rm -rf MsBackendMsp.buildbin-libdir && mkdir MsBackendMsp.buildbin-libdir && E:\biocbuild\bbs-3.21-bioc\R\bin\R.exe CMD INSTALL --build --library=MsBackendMsp.buildbin-libdir MsBackendMsp_1.12.0.tar.gz StartedAt: 2025-08-15 09:46:28 -0400 (Fri, 15 Aug 2025) EndedAt: 2025-08-15 09:46:44 -0400 (Fri, 15 Aug 2025) EllapsedTime: 15.9 seconds RetCode: 0 Status: OK PackageFile: MsBackendMsp_1.12.0.zip PackageFileSize: 372.2 KiB