Package: MsBackendMgf Version: 1.16.0 Command: chmod a+r MsBackendMgf -R && E:\biocbuild\bbs-3.21-bioc\R\bin\R.exe CMD build --keep-empty-dirs --no-resave-data MsBackendMgf StartedAt: 2025-08-14 20:37:48 -0400 (Thu, 14 Aug 2025) EndedAt: 2025-08-14 20:38:34 -0400 (Thu, 14 Aug 2025) EllapsedTime: 45.8 seconds RetCode: 0 Status: OK PackageFile: MsBackendMgf_1.16.0.tar.gz PackageFileSize: 335.9 KiB