Package: MouseFM Version: 1.18.0 Command: chmod a+r MouseFM -R && E:\biocbuild\bbs-3.21-bioc\R\bin\R.exe CMD build --keep-empty-dirs --no-resave-data MouseFM StartedAt: 2025-08-14 20:36:11 -0400 (Thu, 14 Aug 2025) EndedAt: 2025-08-14 20:37:25 -0400 (Thu, 14 Aug 2025) EllapsedTime: 74.0 seconds RetCode: 0 Status: OK PackageFile: MouseFM_1.18.0.tar.gz PackageFileSize: 690.2 KiB