Package: MouseFM Version: 1.18.0 Command: rm -rf MouseFM.buildbin-libdir && mkdir MouseFM.buildbin-libdir && E:\biocbuild\bbs-3.21-bioc\R\bin\R.exe CMD INSTALL --build --library=MouseFM.buildbin-libdir MouseFM_1.18.0.tar.gz StartedAt: 2025-08-15 09:45:50 -0400 (Fri, 15 Aug 2025) EndedAt: 2025-08-15 09:46:15 -0400 (Fri, 15 Aug 2025) EllapsedTime: 24.9 seconds RetCode: 0 Status: OK PackageFile: MouseFM_1.18.0.zip PackageFileSize: 757.3 KiB