Package: MouseFM Version: 1.18.0 Maintainer: Matthias Munz MaintainerEmail: matthias.munz at gmx.de git_url: https://git.bioconductor.org/packages/MouseFM git_branch: RELEASE_3_21 git_last_commit: ed448db git_last_commit_date: 2025-04-15 12:43:11 -0400 (Tue, 15 Apr 2025)