Package: Motif2Site Version: 1.13.0 Command: F:\biocbuild\bbs-3.22-bioc\R\bin\R.exe CMD INSTALL Motif2Site StartedAt: 2025-08-14 16:23:59 -0400 (Thu, 14 Aug 2025) EndedAt: 2025-08-14 16:24:23 -0400 (Thu, 14 Aug 2025) EllapsedTime: 23.9 seconds RetCode: 0 Status: OK