Package: Motif2Site Version: 1.12.0 Command: /home/biocbuild/bbs-3.21-bioc/R/bin/R CMD INSTALL Motif2Site StartedAt: 2025-10-05 15:27:39 -0400 (Sun, 05 Oct 2025) EndedAt: 2025-10-05 15:27:42 -0400 (Sun, 05 Oct 2025) EllapsedTime: 3.0 seconds RetCode: 0 Status: OK