Package: Motif2Site Version: 1.12.0 Command: /Library/Frameworks/R.framework/Resources/bin/R CMD INSTALL Motif2Site StartedAt: 2025-04-21 15:16:45 -0400 (Mon, 21 Apr 2025) EndedAt: 2025-04-21 15:16:47 -0400 (Mon, 21 Apr 2025) EllapsedTime: 2.0 seconds RetCode: 0 Status: OK