Package: MoonlightR Version: 1.32.0 Command: /Library/Frameworks/R.framework/Resources/bin/R CMD build --keep-empty-dirs --no-resave-data MoonlightR StartedAt: 2025-01-30 20:53:22 -0500 (Thu, 30 Jan 2025) EndedAt: 2025-01-30 21:00:46 -0500 (Thu, 30 Jan 2025) EllapsedTime: 444.2 seconds RetCode: 0 Status: OK PackageFile: MoonlightR_1.32.0.tar.gz PackageFileSize: 15.56 MiB