Package: MoonlightR Version: 1.34.0 Command: /home/biocbuild/R/R/bin/R CMD INSTALL MoonlightR StartedAt: 2025-05-12 21:13:29 -0000 (Mon, 12 May 2025) EndedAt: 2025-05-12 21:14:36 -0000 (Mon, 12 May 2025) EllapsedTime: 67.3 seconds RetCode: 0 Status: OK