Package: MoonlightR Version: 1.34.0 Maintainer: Matteo Tiberti MaintainerEmail: tiberti at cancer.dk git_url: https://git.bioconductor.org/packages/MoonlightR git_branch: RELEASE_3_21 git_last_commit: 187e024 git_last_commit_date: 2025-04-15 11:06:13 -0400 (Tue, 15 Apr 2025)