Package: MoleculeExperiment Version: 1.8.0 Maintainer: Shila Ghazanfar MaintainerEmail: shazanfar at gmail.com git_url: https://git.bioconductor.org/packages/MoleculeExperiment git_branch: RELEASE_3_21 git_last_commit: 605c139 git_last_commit_date: 2025-04-15 13:14:02 -0400 (Tue, 15 Apr 2025)