Package: ModCon Version: 1.14.0 Command: /home/biocbuild/R/R/bin/R CMD INSTALL ModCon StartedAt: 2025-01-30 20:10:22 -0000 (Thu, 30 Jan 2025) EndedAt: 2025-01-30 20:10:34 -0000 (Thu, 30 Jan 2025) EllapsedTime: 12.4 seconds RetCode: 0 Status: OK