Package: ModCon Version: 1.14.0 Command: /home/biocbuild/R/R/bin/R CMD build --keep-empty-dirs --no-resave-data ModCon StartedAt: 2025-02-04 01:04:49 -0000 (Tue, 04 Feb 2025) EndedAt: 2025-02-04 01:07:17 -0000 (Tue, 04 Feb 2025) EllapsedTime: 148.1 seconds RetCode: 0 Status: OK PackageFile: ModCon_1.14.0.tar.gz PackageFileSize: 1.932 MiB