Package: ModCon Version: 1.14.0 Command: F:\biocbuild\bbs-3.20-bioc\R\bin\R.exe CMD INSTALL ModCon StartedAt: 2025-01-30 15:25:46 -0500 (Thu, 30 Jan 2025) EndedAt: 2025-01-30 15:26:13 -0500 (Thu, 30 Jan 2025) EllapsedTime: 27.4 seconds RetCode: 0 Status: OK