Package: ModCon Version: 1.14.0 Command: /home/biocbuild/bbs-3.20-bioc/R/bin/R CMD INSTALL ModCon StartedAt: 2025-02-03 15:16:44 -0500 (Mon, 03 Feb 2025) EndedAt: 2025-02-03 15:16:52 -0500 (Mon, 03 Feb 2025) EllapsedTime: 8.0 seconds RetCode: 0 Status: OK