Package: ModCon Version: 1.14.0 Command: /home/biocbuild/bbs-3.20-bioc/R/bin/R CMD check --install=check:ModCon.install-out.txt --library=/home/biocbuild/bbs-3.20-bioc/R/site-library --timings ModCon_1.14.0.tar.gz StartedAt: 2025-01-31 00:07:03 -0500 (Fri, 31 Jan 2025) EndedAt: 2025-01-31 00:12:34 -0500 (Fri, 31 Jan 2025) EllapsedTime: 331.4 seconds RetCode: 0 Status: OK CheckDir: ModCon.Rcheck Warnings: 0