Package: ModCon Version: 1.14.0 Command: /home/biocbuild/bbs-3.20-bioc/R/bin/R CMD build --keep-empty-dirs --no-resave-data --md5 ModCon StartedAt: 2025-02-03 18:17:43 -0500 (Mon, 03 Feb 2025) EndedAt: 2025-02-03 18:19:28 -0500 (Mon, 03 Feb 2025) EllapsedTime: 105.2 seconds RetCode: 0 Status: OK PackageFile: ModCon_1.14.0.tar.gz PackageFileSize: 1.913 MiB