Package: ModCon Version: 1.16.0 Command: /home/biocbuild/bbs-3.21-bioc/R/bin/R CMD INSTALL ModCon StartedAt: 2025-10-12 15:02:28 -0400 (Sun, 12 Oct 2025) EndedAt: 2025-10-12 15:02:40 -0400 (Sun, 12 Oct 2025) EllapsedTime: 12.2 seconds RetCode: 0 Status: OK