Package: ModCon Version: 1.14.0 Command: /Library/Frameworks/R.framework/Resources/bin/R CMD INSTALL ModCon StartedAt: 2025-01-30 15:11:21 -0500 (Thu, 30 Jan 2025) EndedAt: 2025-01-30 15:11:35 -0500 (Thu, 30 Jan 2025) EllapsedTime: 13.8 seconds RetCode: 0 Status: OK