Package: ModCon Version: 1.14.0 Command: /Library/Frameworks/R.framework/Resources/bin/R CMD INSTALL ModCon StartedAt: 2025-01-30 15:13:55 -0500 (Thu, 30 Jan 2025) EndedAt: 2025-01-30 15:14:04 -0500 (Thu, 30 Jan 2025) EllapsedTime: 9.6 seconds RetCode: 0 Status: OK