Package: MinimumDistance Version: 1.52.0 Command: rm -rf MinimumDistance.buildbin-libdir && mkdir MinimumDistance.buildbin-libdir && /Users/biocbuild/BBS/utils/build-universal.sh MinimumDistance_1.52.0.tar.gz /Library/Frameworks/R.framework/Resources/bin/R MinimumDistance.buildbin-libdir StartedAt: 2025-04-21 22:42:18 -0400 (Mon, 21 Apr 2025) EndedAt: 2025-04-21 22:42:39 -0400 (Mon, 21 Apr 2025) EllapsedTime: 20.4 seconds RetCode: 0 Status: OK PackageFile: MinimumDistance_1.52.0.tgz PackageFileSize: 3.657 MiB