Package: MicrobiotaProcess Version: 1.20.1 Command: rm -rf MicrobiotaProcess.buildbin-libdir && mkdir MicrobiotaProcess.buildbin-libdir && E:\biocbuild\bbs-3.21-bioc\R\bin\R.exe CMD INSTALL --build --library=MicrobiotaProcess.buildbin-libdir MicrobiotaProcess_1.20.1.tar.gz StartedAt: 2025-08-15 09:42:09 -0400 (Fri, 15 Aug 2025) EndedAt: 2025-08-15 09:51:47 -0400 (Fri, 15 Aug 2025) EllapsedTime: 577.8 seconds RetCode: 0 Status: OK PackageFile: MicrobiotaProcess_1.20.1.zip PackageFileSize: 4.387 MiB