Package: MicrobiotaProcess Version: 1.20.1 Command: /Library/Frameworks/R.framework/Resources/bin/R CMD build --keep-empty-dirs --no-resave-data MicrobiotaProcess StartedAt: 2025-05-22 20:25:52 -0400 (Thu, 22 May 2025) EndedAt: 2025-05-22 20:32:55 -0400 (Thu, 22 May 2025) EllapsedTime: 423.2 seconds RetCode: 0 Status: OK PackageFile: MicrobiotaProcess_1.20.1.tar.gz PackageFileSize: 4.981 MiB